BEGIN:VCALENDAR
VERSION:2.0
PRODID:-//TSV Jesenwang - ECPv6.15.14//NONSGML v1.0//EN
CALSCALE:GREGORIAN
METHOD:PUBLISH
X-ORIGINAL-URL:https://tsvjesenwang.de
X-WR-CALDESC:Veranstaltungen für TSV Jesenwang
REFRESH-INTERVAL;VALUE=DURATION:PT1H
X-Robots-Tag:noindex
X-PUBLISHED-TTL:PT1H
BEGIN:VTIMEZONE
TZID:UTC
BEGIN:STANDARD
TZOFFSETFROM:+0000
TZOFFSETTO:+0000
TZNAME:UTC
DTSTART:20250101T000000
END:STANDARD
END:VTIMEZONE
BEGIN:VEVENT
DTSTART;VALUE=DATE:20260320
DTEND;VALUE=DATE:20260321
DTSTAMP:20260421T144727
CREATED:20251130T174124Z
LAST-MODIFIED:20260210T110710Z
UID:3185-1773964800-1774051199@tsvjesenwang.de
SUMMARY:20.03.26 Premiere - Theater Beim TSV Jesenwang 2026
DESCRIPTION:
URL:https://tsvjesenwang.de/event/theater-beim-tsv-jesenwang-2026
LOCATION:Gemeinschaftshaus Jesenwang\, Römertshofener Str. 1\, Jesenwang\, 82287
END:VEVENT
BEGIN:VEVENT
DTSTART;VALUE=DATE:20260321
DTEND;VALUE=DATE:20260322
DTSTAMP:20260421T144727
CREATED:20260210T110617Z
LAST-MODIFIED:20260210T110634Z
UID:3247-1774051200-1774137599@tsvjesenwang.de
SUMMARY:21.03.26 Theater Beim TSV Jesenwang 2026
DESCRIPTION:
URL:https://tsvjesenwang.de/event/theater-beim-tsv-jesenwang-2026-2
LOCATION:Gemeinschaftshaus Jesenwang\, Römertshofener Str. 1\, Jesenwang\, 82287
END:VEVENT
END:VCALENDAR