BEGIN:VCALENDAR
VERSION:2.0
PRODID:-//TSV Jesenwang - ECPv6.15.14//NONSGML v1.0//EN
CALSCALE:GREGORIAN
METHOD:PUBLISH
X-WR-CALNAME:TSV Jesenwang
X-ORIGINAL-URL:https://tsvjesenwang.de
X-WR-CALDESC:Veranstaltungen für TSV Jesenwang
REFRESH-INTERVAL;VALUE=DURATION:PT1H
X-Robots-Tag:noindex
X-PUBLISHED-TTL:PT1H
BEGIN:VTIMEZONE
TZID:UTC
BEGIN:STANDARD
TZOFFSETFROM:+0000
TZOFFSETTO:+0000
TZNAME:UTC
DTSTART:20250101T000000
END:STANDARD
END:VTIMEZONE
BEGIN:VEVENT
DTSTART;TZID=UTC:20260207T193000
DTEND;TZID=UTC:20260208T020000
DTSTAMP:20260421T162225
CREATED:20251130T111450Z
LAST-MODIFIED:20260104T121501Z
UID:2736-1770492600-1770516000@tsvjesenwang.de
SUMMARY:Sportlerball des TSV Jesenwang 2026
DESCRIPTION:
URL:https://tsvjesenwang.de/event/sportlerball-des-tsv-jesenwang-2024
LOCATION:Gemeinschaftshaus Jesenwang\, Römertshofener Str. 1\, Jesenwang\, 82287
CATEGORIES:Hauptverein TSV
ATTACH;FMTTYPE=image/jpeg:https://tsvjesenwang.de/wp-content/uploads/2025/11/Hollywood-Award-Ceremony-Poster-Template.jpg
END:VEVENT
END:VCALENDAR