BEGIN:VCALENDAR
VERSION:2.0
PRODID:-//TSV Jesenwang - ECPv6.15.14//NONSGML v1.0//EN
CALSCALE:GREGORIAN
METHOD:PUBLISH
X-ORIGINAL-URL:https://tsvjesenwang.de
X-WR-CALDESC:Veranstaltungen für TSV Jesenwang
REFRESH-INTERVAL;VALUE=DURATION:PT1H
X-Robots-Tag:noindex
X-PUBLISHED-TTL:PT1H
BEGIN:VTIMEZONE
TZID:UTC
BEGIN:STANDARD
TZOFFSETFROM:+0000
TZOFFSETTO:+0000
TZNAME:UTC
DTSTART:20250101T000000
END:STANDARD
END:VTIMEZONE
BEGIN:VEVENT
DTSTART;TZID=UTC:20260131T130000
DTEND;TZID=UTC:20260131T153000
DTSTAMP:20260421T180209
CREATED:20251110T141009Z
LAST-MODIFIED:20251130T165930Z
UID:1831-1769864400-1769873400@tsvjesenwang.de
SUMMARY:Kinderfasching des TSV Jesenwang
DESCRIPTION:
URL:https://tsvjesenwang.de/event/kinderfasching-des-tsv-jesenwang
LOCATION:Gemeinschaftshaus Jesenwang\, Römertshofener Str. 1\, Jesenwang\, 82287
CATEGORIES:Hauptverein TSV
END:VEVENT
END:VCALENDAR