BEGIN:VCALENDAR
VERSION:2.0
PRODID:-//TSV Jesenwang - ECPv6.15.14//NONSGML v1.0//EN
CALSCALE:GREGORIAN
METHOD:PUBLISH
X-WR-CALNAME:TSV Jesenwang
X-ORIGINAL-URL:https://tsvjesenwang.de
X-WR-CALDESC:Veranstaltungen für TSV Jesenwang
REFRESH-INTERVAL;VALUE=DURATION:PT1H
X-Robots-Tag:noindex
X-PUBLISHED-TTL:PT1H
BEGIN:VTIMEZONE
TZID:UTC
BEGIN:STANDARD
TZOFFSETFROM:+0000
TZOFFSETTO:+0000
TZNAME:UTC
DTSTART:20250101T000000
END:STANDARD
END:VTIMEZONE
BEGIN:VEVENT
DTSTART;TZID=UTC:20260509T180000
DTEND;TZID=UTC:20260509T230000
DTSTAMP:20260421T103445
CREATED:20260204T071939Z
LAST-MODIFIED:20260204T071939Z
UID:3218-1778349600-1778367600@tsvjesenwang.de
SUMMARY:Line-Dance Event c/o Kusch Schöngeising
DESCRIPTION:
URL:https://tsvjesenwang.de/event/line-dance-event-c-o-kusch-schoengeising
END:VEVENT
BEGIN:VEVENT
DTSTART;TZID=UTC:20260822T183000
DTEND;TZID=UTC:20260822T233000
DTSTAMP:20260421T103445
CREATED:20260204T072655Z
LAST-MODIFIED:20260204T072655Z
UID:3221-1787423400-1787441400@tsvjesenwang.de
SUMMARY:Linedance Party
DESCRIPTION:
URL:https://tsvjesenwang.de/event/linedance-party
LOCATION:Gemeinschaftshaus Jesenwang\, Römertshofener Str. 1\, Jesenwang\, 82287
END:VEVENT
END:VCALENDAR